BEGIN:VCALENDAR
VERSION:2.0
PRODID:-//Stadtgeschichte München//DE
CALSCALE:GREGORIAN
BEGIN:VEVENT
UID:752@stadtgeschichte-muenchen.de
SUMMARY:Kräuterbüschl und Blumen zum Frauendreißiger
DESCRIPTION:&lt;p&gt;Die Tradition des Bindens von Kräuterbüschln hängt eng mit dem Frauendreißiger zusammen. Denn in dieser Zeit, so heißt es, sollen die verschiedenen Krauter eine besonders heilsame Wirkung haben. Zu Geschichten rund um diese lokale Tradition werden an diesem Abend von der Dozentin mitgebrachte Krauter und Blumen zu einem Strauß gebunden. Auch die nachträgliche Weihe der Krauter gehört heute noch zur Wallfahrt-Tradition.&lt;/p&gt;
DTSTART:20110811T180000
DTEND:20110811T200000
LOCATION:Stadtteilladen Kpp4, Karl-Preis-Platz 4
ORGANIZER:MVHS München Mitte   
END:VEVENT
END:VCALENDAR