BEGIN:VCALENDAR
VERSION:2.0
PRODID:-//Stadtgeschichte München//DE
CALSCALE:GREGORIAN
BEGIN:VEVENT
UID:758@stadtgeschichte-muenchen.de
SUMMARY:„Wer war eigentlich ... Albert Roßhaupter?
DESCRIPTION:&lt;p&gt;An vielen Straßenschildern geht man achtlos vorbei - dabei bieten sie eine gute Gelegenheit, sich an die Geschichte vergangener Jahrhunderte und herausragende Persönlichkeiten zu erinnern. Drei Sendlinger Straßen sind nach herausragenden Vertretern der Münchner Arbeiterbewegung von 1900 bis 1933 benannt. Albert Roßhaupter, Johannes Timm und Fritz Endres waren bayerische Staatsminister in den Kabinetten von Kurt Eisner und Johannes Hoffmann und führende SPD-Landtagsabgeordnete bis 1933. Der Vortrag zeichnet ihr Leben und Wirken nach.&lt;/p&gt; 
DTSTART:20110315T140000
DTEND:20110315T170000
LOCATION:Volkshochschule - Harras - Albert-Roßhaupter-Str. 8
ORGANIZER:MVHS München Mitte   
END:VEVENT
END:VCALENDAR