BEGIN:VCALENDAR
VERSION:2.0
PRODID:-//Stadtgeschichte München//DE
CALSCALE:GREGORIAN
BEGIN:VEVENT
UID:760@stadtgeschichte-muenchen.de
SUMMARY:Vom Feuerwehrschlauch bis zum High-Tech-Meßgerät
DESCRIPTION:&lt;p&gt;â€žFreiwillige Feuerwehr - ich wusste gar nicht, dass es so was in München gibt.&quot; Das hören die etwa 800 ehrenamtlichen Feuerwehrfrauen und -männer in München gelegentlich auf ihren Einsätzen im Stadtgebiet. Dabei können die 21 Abteilungen der Freiwilligen Feuerwehr der Stadt sogar auf eine längere Historie zurückblicken als die Berufsfeuerwehr. Bei der Freiwilligen Feuerwehr München -Abteilung Sendung sind momentan ca. 40 Frauen und Männer aktiv. Die Abteilung unterstützt nicht nur die Berufsfeuerwehr, sondern wird auch bei größeren Schadensereignissen komplett eigenständig tätig und stellt zusätzlich für die gesamte Stadt bei größeren Einsätzen die â€žUnterstützungsgruppe für die Örtliche Einsatzleitung&quot;. Auf einer Führung im Gerätehaus gibt es Informationen zur Arbeit der FFW Sendung. Weitere Informationen zur Abteilung Sendung: www.feuerwehr-sendling.de&lt;/p&gt;
DTSTART:20110404T180000
DTEND:20110404T193000
LOCATION:Museumsladen Schloss Nymphenburg
ORGANIZER:MVHS München Mitte   
END:VEVENT
END:VCALENDAR