BEGIN:VCALENDAR
VERSION:2.0
PRODID:-//Stadtgeschichte München//DE
CALSCALE:GREGORIAN
BEGIN:VEVENT
UID:772@stadtgeschichte-muenchen.de
SUMMARY:Versorgung für die Großstadt: die Markthallen München
DESCRIPTION:&lt;p&gt;Im Dezember 2005 hat der Stadtrat die Fusion der Eigenbetriebe Gro&amp;szlig;markthalle und Schlachthof beschlossen, die zum 1.1.2007 in Kraft getreten ist. Die &amp;bdquo;Markthallen M&amp;uuml;nchen&amp;quot; sind -wie schon bisher - auch f&amp;uuml;r den Betrieb der vier st&amp;auml;ndigen Lebensmittelm&amp;auml;rkte und der st&amp;auml;dtischen Wochenm&amp;auml;rkte zust&amp;auml;ndig. In der 1912 errichteten Gro&amp;szlig;markthalle schlagen auf einer Fl&amp;auml;che von 310000 Quadratmetern 270 Import- und Gro&amp;szlig;handelsfirmen 140 Warengattungen aus 83 L&amp;auml;ndern im Wert von &amp;uuml;ber 750 Millionen Euro um. Der Schlachthof ist der gr&amp;ouml;&amp;szlig;te seiner Art in Mitteleuropa. Die F&amp;uuml;hrung durch beide Betriebsteile informiert &amp;uuml;ber die Entwicklung des Eigenbetriebs und bietet die Gelegenheit zu einem Blick hinter die Kulissen.&lt;/p&gt;
DTSTART:20110329T083000
DTEND:20110329T103000
LOCATION:Eingang Thalkirchner Str. 817 Ecke Oberländerstr., Sitzungssaal (Zi. 4) 
ORGANIZER:MVHS München Süd
END:VEVENT
END:VCALENDAR