BEGIN:VCALENDAR
VERSION:2.0
PRODID:-//Stadtgeschichte München//DE
CALSCALE:GREGORIAN
BEGIN:VEVENT
UID:7775@stadtgeschichte-muenchen.de
SUMMARY:„Ein Geschenk von König Max“
DESCRIPTION:&lt;p&gt;1812 legte Friedrich Ludwig von Sckell im Auftrag von König Max I. den Botanischen Garten an. Damals noch vor den Toren der Stadt, entstand der erste Gewächsgarten in München. Eine Sammlung von weltweit erstmals zu besichtigten Pflanzen und Bäumen. Nach 41 Jahren wurde auf einem Teil des Geländes der Glaspalast errichtet. In den 1930er Jahren kam der Neptun Brunnen und ein Kaffeehaus hinzu. Der heute „Alte Botanische Garten“ erzählt uns seine Geschichte und von seinen Planern, Erbauern und Gestaltern.&amp;nbsp;&lt;/p&gt; 
DTSTART:20140720T110000
DTEND:20140720T130000
LOCATION:Portikus Alter Botanscher Garten - Ecke EIisen-/Sophienstr.
ORGANIZER:MVHS München Mitte   
END:VEVENT
END:VCALENDAR