BEGIN:VCALENDAR
VERSION:2.0
PRODID:-//Stadtgeschichte München//DE
CALSCALE:GREGORIAN
BEGIN:VEVENT
UID:778@stadtgeschichte-muenchen.de
SUMMARY:Das Asam-Schlössl und Alt-Thalkirchen
DESCRIPTION:&lt;p&gt;S&amp;uuml;dlich des alten Thalkirchen steht das Schl&amp;ouml;ssl des gro&amp;szlig;en Barock-K&amp;uuml;nstlers Cosmas Damian Asam. Wir sehen Innenr&amp;auml;ume und unterhalten uns &amp;uuml;ber die gro&amp;szlig;en Pers&amp;ouml;nlichkeiten, die hier lebten. Vorher besuchen wir die Wallfahrtskirche Maria Thalkirchen, zu deren Sch&amp;ouml;nheit alle Epochen vom sp&amp;auml;ten Mittelalter &amp;uuml;ber Ignaz G&amp;uuml;nthers Rokoko bis zur romantischen Bauweise Gabriel von Seidls beitrugen. Schl&amp;ouml;ssl und Kirche verbinden die auf das Mittelalter zur&amp;uuml;ckgehende Dorfstra&amp;szlig;e, eine malerische Gr&amp;uuml;nanlage und reizvolle Villen.&lt;/p&gt;
DTSTART:20110526T143000
DTEND:20110526T163000
LOCATION:vor Maria Thalkirchen (Fraunbergplatz)
ORGANIZER:MVHS München Mitte   
END:VEVENT
END:VCALENDAR