BEGIN:VCALENDAR
VERSION:2.0
PRODID:-//Stadtgeschichte München//DE
CALSCALE:GREGORIAN
BEGIN:VEVENT
UID:787@stadtgeschichte-muenchen.de
SUMMARY:Archäologie im historischen Ortskern Denkmalpflege im Grenzbereich?
DESCRIPTION:&lt;p&gt;Im Juli 2010 f&amp;uuml;hrte das Baureferat zusammen mit Spezialisten vom Bayerischen Landesamt f&amp;uuml;r Denkmalpflege in der Marchioninistra&amp;szlig;e eine Grabung nach Spuren fr&amp;uuml;hzeitlicher Besiedlung durch. 2009 konnten arch&amp;auml;ologische Grabungen in der Gro&amp;szlig;haderner Heiglhof-stra&amp;szlig;e die lange und intensive Nutzung des Areals seit dem 14. Jahrhundert nachweisen; die Grabungsergebnisse zeigen das gro&amp;szlig;e Potenzial arch&amp;auml;ologischer Methoden f&amp;uuml;r die Orts- und Regionalgeschichte. Fast zeitgleich begann in Bayern eine Grundsatzdiskussion auf politischer Ebene &amp;uuml;ber die Bedeutung arch&amp;auml;ologischer Untersuchungen f&amp;uuml;r die mittelalterliche Geschichte. Der Vortrag beleuchtet das Thema aus Sicht der Bayerischen Bodendenkmalpflege und informiert &amp;uuml;ber den Verfahrensablauf bei Grabungen.&lt;/p&gt;
DTSTART:20110707T193000
DTEND:20110707T210000
LOCATION:Volkshochschule â€¢ Guardinistr. 90
ORGANIZER:MVHS München Süd
END:VEVENT
END:VCALENDAR