BEGIN:VCALENDAR
VERSION:2.0
PRODID:-//Stadtgeschichte München//DE
CALSCALE:GREGORIAN
BEGIN:VEVENT
UID:7946@stadtgeschichte-muenchen.de
SUMMARY:Tag der Archive
DESCRIPTION:Archive sind das »Gedächtnis«&nbsp;einer Gesellschaft. Ihre Aufgabe ist&nbsp;es, originale und einmalige Zeugnisse&nbsp;menschlichen Lebens aufzubewahren,&nbsp;zu erschließen, im Rahmen der&nbsp;rechtlichen Möglichkeiten zur Benutzung bereitzustellen, auszuwerten&nbsp;und so vor dem Vergessen zu sichern. Archive sind das Fundament zukünftiger Erinnerung. Jede Generation&nbsp;kann, muss und will sich aus historischen&nbsp;Dokumenten aufs Neue ihr Bild&nbsp;von der Vergangenheit machen. Die&nbsp;Archive geben Hilfestellung bei der&nbsp;Forschung und wenden sich in Publikationen, Ausstellungen, Führungen&nbsp;und Vorträgen an die Öffentlichkeit. München besitzt eine reiche und vielfältige Archivlandschaft. 21 Münchner Archive geben am Samstag,&nbsp;den 8. März 2014 unter dem Motto&nbsp;Erinnern und Entdecken Einblick in&nbsp;ihre spannenden Bestände.
DTSTART:20130308T000000
DTEND:20130308T000000
LOCATION:
ORGANIZER:
END:VEVENT
END:VCALENDAR