BEGIN:VCALENDAR
VERSION:2.0
PRODID:-//Stadtgeschichte München//DE
CALSCALE:GREGORIAN
BEGIN:VEVENT
UID:7948@stadtgeschichte-muenchen.de
SUMMARY:Kulturlandschaftsschutz und Windenergie
DESCRIPTION:Montagsvorträge zur Denkmalpflege in Bayern
DTSTART:20140217T190000
DTEND:20140217T000000
LOCATION:Säulenhalle der Alten Münze
ORGANIZER:Bayerisches Landesamt für Denkmalpflege
END:VEVENT
END:VCALENDAR