BEGIN:VCALENDAR
VERSION:2.0
PRODID:-//Stadtgeschichte München//DE
CALSCALE:GREGORIAN
BEGIN:VEVENT
UID:7951@stadtgeschichte-muenchen.de
SUMMARY:Münchner Denkmäler aus Bronze
DESCRIPTION:Montagsvorträge zur Denkmalpflege in Bayern
DTSTART:20140317T190000
DTEND:20140317T000000
LOCATION:Säulenhalle der Alten Münze
ORGANIZER:Bayerisches Landesamt für Denkmalpflege
END:VEVENT
END:VCALENDAR