BEGIN:VCALENDAR
VERSION:2.0
PRODID:-//Stadtgeschichte München//DE
CALSCALE:GREGORIAN
BEGIN:VEVENT
UID:7952@stadtgeschichte-muenchen.de
SUMMARY:Exportland Bayern
DESCRIPTION:Montagsvorträge zur Denkmalpflege in Bayern
DTSTART:20140324T190000
DTEND:20140324T000000
LOCATION:Säulenhalle der Alten Münze
ORGANIZER:Bayerisches Landesamt für Denkmalpflege
END:VEVENT
END:VCALENDAR