BEGIN:VCALENDAR
VERSION:2.0
PRODID:-//Stadtgeschichte München//DE
CALSCALE:GREGORIAN
BEGIN:VEVENT
UID:8047@stadtgeschichte-muenchen.de
SUMMARY:Kunstschaffen zur Zeit des Nationalsozialismus in München
DESCRIPTION:München, von den Nationalsozialisten als „Hauptstadt der Bewegung\" glorifiziert, nahm im Dritten Reich eine wichtige Rolle ein. Auf einem Stadtrundgang vom ehemaligen „Führerbau\" am Königsplatz über den Odeonsplatz bis hin zum ehemaligen „Haus der Deutschen Kunst\" an der Prinzregentenstraße werden die wichtigsten Orte und Bauten dieser Zeit in ihrem künstlerischen, politischen und ideologischen Kontext erschlossen.
DTSTART:20140430T140000
DTEND:20140430T160000
LOCATION:Glyptothek, Freitreppe, Königsplatz 3, 80333 München
ORGANIZER:Münchner Bildungswerk e.V.
END:VEVENT
END:VCALENDAR