BEGIN:VCALENDAR
VERSION:2.0
PRODID:-//Stadtgeschichte München//DE
CALSCALE:GREGORIAN
BEGIN:VEVENT
UID:8133@stadtgeschichte-muenchen.de
SUMMARY:Genusswanderung durch die Münchner Innenstadt
DESCRIPTION:Bei der Genusswanderung durch München ist Schokolade der rote Faden, der uns durch die Stadtgeschichte leitet: Sie entdecken die bittersüße Geschichte hinter St. Michael, lernen eine Kurfürstin mit Hang zur Schokolade kennen, begegnen einer Prinzessin mit Nähe zur Kakaobohne und erfahren etwas über die exotische Seite der Münchner Frauenkirche. Und „Genusswanderung\" bedeutet selbstverständlich, dass zum Augen- und Ohrenschmaus auch das Schmecken und Probieren gehören.&nbsp;
DTSTART:20140328T140000
DTEND:20140328T160000
LOCATION:Fischbrunnen am Marienplatz
ORGANIZER:Münchner Bildungswerk e.V.
END:VEVENT
END:VCALENDAR