BEGIN:VCALENDAR
VERSION:2.0
PRODID:-//Stadtgeschichte München//DE
CALSCALE:GREGORIAN
BEGIN:VEVENT
UID:818@stadtgeschichte-muenchen.de
SUMMARY:Pasing im Umbruch II
DESCRIPTION:&lt;p&gt;Pasing befindet sich bereits im Umbruch. Aktuell wird der Bau des Busbahnhofs und des Terminalgeb&amp;auml;udes vorangetrieben. Am 15. M&amp;auml;rz 2011 er&amp;ouml;ffnen die neuen Pasing-Arcaden ihren ersten Bauabschnitt. Es folgt die Verlegung der Trambahn zum Bahnhof und die Aufwertung des &amp;ouml;ffentlichen Raums in der Landsberger Stra&amp;szlig;e, der B&amp;auml;cker- und der Gleichmannstra&amp;szlig;e. Ende 2014 wird Pasing dann ein ganz neuer Stadtteil sein, der Handel, Gewerbe und Bewohnern eine nie dagewesene Urbanit&amp;auml;t und Aufenthaltsqualit&amp;auml;t bietet. Um die Bewohner und die Gewerbetreibenden Pasings bei diesen Ver&amp;auml;nderungen zu unterst&amp;uuml;tzen, haben die Stadt M&amp;uuml;nchen und die M&amp;uuml;nchner Gesellschaft f&amp;uuml;r Stadterneuerung f&amp;uuml;r den Pasinger Kernbereich erstmals in M&amp;uuml;nchen das neue St&amp;auml;dtebauf&amp;ouml;rderungsprogramm &amp;bdquo;Aktive Stadt- und Ortteilzentren&amp;quot; eingerichtet. Derartige Ver&amp;auml;nderungen sorgen f&amp;uuml;r eine Menge Gespr&amp;auml;chsstoff und werfen noch mehr Fragen auf. &amp;Uuml;ber diese Umw&amp;auml;lzungen im Stadtteil informiert Christian Bitter vom Stadtteilmanagement Pasing, dessen Vortrag mit Pr&amp;auml;sentation ggf. von einem Mitarbeiter der mit vorbereitenden Untersuchungen beauftragten Planungs- und Beratungsb&amp;uuml;ros erg&amp;auml;nzt wird. Im Anschluss Gespr&amp;auml;ch und Diskussion.&lt;/p&gt;
DTSTART:20110504T190000
DTEND:20110504T203000
LOCATION:Volkshochschule - Bäckerstr. 14
ORGANIZER:MVHS München Mitte   
END:VEVENT
END:VCALENDAR