BEGIN:VCALENDAR
VERSION:2.0
PRODID:-//Stadtgeschichte München//DE
CALSCALE:GREGORIAN
BEGIN:VEVENT
UID:8231@stadtgeschichte-muenchen.de
SUMMARY:Mit Tram, Bus und zu Fuß durch einige Stadtviertel
DESCRIPTION:An diesem Tag kommen wir in verschiedene Stadtviertel, in viele Straßenzüge und in alle Himmelsrichtungen. Es sind nicht nur Bauten und Sehenswürdigkeiten, sondern wir erleben die Geschichte Münchens und ihrer Bürger in den jeweiligen Vierteln über die Jahrhunderte hinweg. An einigen Orten steigen wir aus und erkunden die Umgebung in Ruhe zu Fuß. Eine Mittagspause ist eingeplant. Benötigt wird eine Tageskarte Innenraum (Single € 5.80, Partner € 10.60 für 5 Personen) oder Isarkarte mit Zonen 1 und 2. Beachten Sie bitte ggf. die Tarifpreiserhöhung.
DTSTART:20140421T093000
DTEND:20140421T170000
LOCATION:Promenadeplatz Ost (Maffeistraße/Kardinal-Faulhaber-Straße)
ORGANIZER:DGB-Bildungswerk Bayern e.V. Region München
END:VEVENT
END:VCALENDAR