BEGIN:VCALENDAR
VERSION:2.0
PRODID:-//Stadtgeschichte München//DE
CALSCALE:GREGORIAN
BEGIN:VEVENT
UID:8234@stadtgeschichte-muenchen.de
SUMMARY:O\'zapft werd - ein Blick auf den Oktoberfestaufbau
DESCRIPTION:Bereits im Juli beginnen die Aufbauarbeiten für das größte Volksfest der Welt. Bei unserem Rundgang durch die teilweise schon aufgebaute „Wiesn\" reden wir über die Geschichte des Oktoberfestes und darüber, was die Einmaligkeit dieses Volksfestes ausmacht. Beim Besuch des Servicezentrums der Stadt erfahren Sie, welche Angebote und Dienstleistungen hier während des Festes geboten (und genützt) werden.&nbsp;
DTSTART:20140810T150000
DTEND:20140810T173000
LOCATION:Theresienwiese, Treppen unterhalb zur Bavaria
ORGANIZER:DGB-Bildungswerk Bayern e.V. Region München
END:VEVENT
END:VCALENDAR