BEGIN:VCALENDAR
VERSION:2.0
PRODID:-//Stadtgeschichte München//DE
CALSCALE:GREGORIAN
BEGIN:VEVENT
UID:8235@stadtgeschichte-muenchen.de
SUMMARY:Mit dem Pedelec durch Stadt und Park
DESCRIPTION:Auf ausgesuchten Wegen geht es von Laimaus durch die Maxvor— stadt zum Olympiagelände und über Schloss Nymphenburg zurück zum Ausgangsort. Mit dem Pedelec („Pedal ElectricCycle”, Elektrofahrrad bis maximal 25 km/h, darf auf Fahrradwegen fahren) kommen Sie mühelos durch die Stadt, genießen entspannt die grünen Oasen und meistern ohne Anstrengung die Steigungen. An den schönsten Stellen sind Stopps und Besichtigungen und natürlich Pausen eingeplant. Eingangs erhalten Sieeine Einweisungund drehen Proberunden auf dem Gelände. DasPedelecwird gestellt. Diesesind nur in begrenzter Anzahl mit Rücktrittbremse vorrätig. . In Kooperation mit Fahrrad Drahtesel. Bitte beachten Sie, dass weder von Seiten des Kursleiters noch von der MVH eine Haftung für Unfälle übernommen werden kann. Ersatztermin bei Regen: 18.6.2014
DTSTART:20140518T103000
DTEND:20140518T160000
LOCATION:Treffpunkt wird mitgeteilt
ORGANIZER:MVHS München Mitte   
END:VEVENT
END:VCALENDAR