BEGIN:VCALENDAR
VERSION:2.0
PRODID:-//Stadtgeschichte München//DE
CALSCALE:GREGORIAN
BEGIN:VEVENT
UID:831@stadtgeschichte-muenchen.de
SUMMARY:Münchner G&#039;schichten
DESCRIPTION:&lt;p&gt;Sagen und Legenden aus dem Alten München BeiÂ Â  einemÂ Â  abendlichenÂ Â  SpaziergangÂ Â  durch München lernen wir klassische Geschichten und Sagen kennen. Was macht der Lindwurm genau? Wie kommt der Teufelstritt in den Dom und wo kletterte der Affe? Und... Wie war das nochmal genau mit dem Münchener Kindl und wie wirds jeden Abend ins Bett gebracht?&lt;/p&gt;
DTSTART:20110304T180000
DTEND:20110304T193000
LOCATION:Mariensäule
ORGANIZER:MVHS München Süd
END:VEVENT
END:VCALENDAR