BEGIN:VCALENDAR
VERSION:2.0
PRODID:-//Stadtgeschichte München//DE
CALSCALE:GREGORIAN
BEGIN:VEVENT
UID:832@stadtgeschichte-muenchen.de
SUMMARY:Rund um den Königsplatz
DESCRIPTION:&lt;p&gt;Wir streifen durch 150 Jahre Stadtgeschichte, begleitet von Anekdoten um die Entstehung des Königsplatzes und vielen Geschichtchen der früheren Bewohner dieser Gegend. Das NS-Regime schließlich nutzte den Rahmen dieses Platzes zur Selbstinszenierung. Die schönen Lichthöfe der Abgusssammlung, die Glyptothek, die Antikensammlung und schließlich die Künstlervilla Franz von Lenbachs - hier gibt&#039;s viel zu entdecken!&lt;/p&gt;
DTSTART:20110310T184500
DTEND:20110310T200000
LOCATION:Stufen zur Glyptothek
ORGANIZER:MVHS München Süd
END:VEVENT
END:VCALENDAR