BEGIN:VCALENDAR
VERSION:2.0
PRODID:-//Stadtgeschichte München//DE
CALSCALE:GREGORIAN
BEGIN:VEVENT
UID:835@stadtgeschichte-muenchen.de
SUMMARY:Hexenfeuer, Teufelsfluch
DESCRIPTION:&lt;p&gt;In der Walpurgisnacht treffen Hexen und Teufel aufeinander - begegnen sich Geister- und Menschenwelt. Wir werden in dieser Zwischenwelt unheimlichen Gestalten über den Weg laufen, die uns die Riten und Geheimnisse aus alten Zeiten anvertrauen: Vom Zeichnen weißer Linien und Schutz vor bösen Blicken und wunderwirksamen Suppen im Hexenkessel... Actionführung mit Darstellern - nichts für schwache Nerven! Für Erwachsene, Jugendliche und gruselfeste, unerschrockene Kinder ab 8 Jahren&lt;/p&gt;
DTSTART:20110428T203000
DTEND:20110428T214500
LOCATION:Am Turmeingang Alter Peter
ORGANIZER:MVHS München Süd
END:VEVENT
END:VCALENDAR