BEGIN:VCALENDAR
VERSION:2.0
PRODID:-//Stadtgeschichte München//DE
CALSCALE:GREGORIAN
BEGIN:VEVENT
UID:8350@stadtgeschichte-muenchen.de
SUMMARY:Vogelstimmen im Frühling
DESCRIPTION:Bereits mit der Wintersonnwende beginnen unsere einheimischen Vögel, I die den Winter über hier geblieben sind, wieder zu singen. Es ist eine I gute Zeit, sich die Vogelstimmen neu einzuprägen oder zu erlernen,&nbsp;denn die Zugvögel sind noch nicht zurück, so dass das Vogelstimmenepertoire noch überschaubar ist. Dauer: 3 Stunden. Kooperation mit I LBV
DTSTART:20140308T100000
DTEND:20140308T130000
LOCATION:Ungererstraße,  U-Bahnstation U6 Alte Heide, Ausgang Nordfriedhof 
ORGANIZER:DGB-Bildungswerk Bayern e.V. Region München
END:VEVENT
END:VCALENDAR