BEGIN:VCALENDAR
VERSION:2.0
PRODID:-//Stadtgeschichte München//DE
CALSCALE:GREGORIAN
BEGIN:VEVENT
UID:838@stadtgeschichte-muenchen.de
SUMMARY:Die Graggenau
DESCRIPTION:&lt;p&gt;Die Graggenau&lt;br /&gt; Dieses Viertel gliederte sich in drei sehr unterschiedliche Bezirke: den Bürgerlichen mit dem Rathaus, den Höfischen rund um die Residenz und in das vom Handwerk geprägte Gebiet rund ums Platzl. Für Touristen ist deshalb dieses Viertel besonders attraktiv, aber auch für Einheimische gibt es Interessantes zu entdecken.&lt;/p&gt;
DTSTART:20110506T100000
DTEND:20110506T120000
LOCATION:Am Isartor
ORGANIZER:MVHS München Süd
END:VEVENT
END:VCALENDAR