BEGIN:VCALENDAR
VERSION:2.0
PRODID:-//Stadtgeschichte München//DE
CALSCALE:GREGORIAN
BEGIN:VEVENT
UID:843@stadtgeschichte-muenchen.de
SUMMARY:Boarische Gschichten aus München
DESCRIPTION:&lt;p&gt;Bei dieser neuen Mundartführung schauen wir den Münchnern wieder auf den Mund: Woher kommen spezifische Redewendungen? Woher haben Straßennamen und Hausbezeichnungen ihre lustigen Namen? Welche bedeutsamen geschichtlichen Ereignisse haben sich in der bayerischen bzw. Münchner Sprache niedergeschlagen? Achtung: Reine Mundart-Tour! &lt;/p&gt;
DTSTART:20110513T183000
DTEND:20110513T200000
LOCATION:Alter Hof beim Brunnen
ORGANIZER:MVHS München Süd
END:VEVENT
END:VCALENDAR