BEGIN:VCALENDAR
VERSION:2.0
PRODID:-//Stadtgeschichte München//DE
CALSCALE:GREGORIAN
BEGIN:VEVENT
UID:845@stadtgeschichte-muenchen.de
SUMMARY:Ausgehen in Schwabing
DESCRIPTION:&lt;p&gt;Wo früher ein Künstleratelier am anderen war, ist heute immer noch jede Menge los: Lebhafte Ausgeh- und Feiermeile, bunte Einkaufsstraßen, attraktives Wohnviertel. Wir bummeln durch einige Schwabinger Straßen und lernen interessante Kneipen, nette Bars und empfehlenswerte Restaurants kennen. (Inkl. kleines fliegendes Büffet mit Prosecco) &lt;/p&gt;
DTSTART:20110526T183000
DTEND:20110526T200000
LOCATION:Leopoldstraße 36, am Walking-Man
ORGANIZER:MVHS München Süd
END:VEVENT
END:VCALENDAR