BEGIN:VCALENDAR
VERSION:2.0
PRODID:-//Stadtgeschichte München//DE
CALSCALE:GREGORIAN
BEGIN:VEVENT
UID:8459@stadtgeschichte-muenchen.de
SUMMARY:Vom Stachus zum Sendlingertorplatz
DESCRIPTION:Im Hackenviertel lagen zur Stadtmauer hin die Versorgungseinrichtungen des Herzogspitals mit dem nicht säkularisierten Servitinnenkloster, das Josephspital für Männer, das Damenstift St. Anna und der aufgehobene Friedhofder Pfarrei St. Peter bei Allerheiligen am Kreuz. Im „Hackenviertel vor der Stadt“ war schon das Krankenhaus der Barmherzigen Brüder entstanden, das der Ausgangspunkt für ein Münchner Klinikviertel werden sollte. Auf dem Glacis wurde unweit des Neuhauser Tors die erste protestantische Stadtpfarrkirche Münchens, St. Matthäus, erbaut.&nbsp;
DTSTART:20140810T110000
DTEND:20140810T130000
LOCATION:Stachus, vor dem Gloria Filmpalast, Karlsplatz 5
ORGANIZER:MVHS München Mitte   
END:VEVENT
END:VCALENDAR