BEGIN:VCALENDAR
VERSION:2.0
PRODID:-//Stadtgeschichte München//DE
CALSCALE:GREGORIAN
BEGIN:VEVENT
UID:8462@stadtgeschichte-muenchen.de
SUMMARY:Auf den Spuren der Wittelsbacher durch das alte München
DESCRIPTION:DasKreuzviertel war von jeher das bevorzugte Wohngebiet für alle, die mit dem Hofe in enger Verbindung standen. So wurden rund um den Alten Hof und später die Residenz zahlreiche prächtige Palaiserbaut. Die Kurfüsten und Könige selbst ließen die Oper, die Feldherrnhalle und die Hofreitschule errichten und mit der Theatinerkirche begann eine neue Ära der Baukunst in München. Restkarten vor Ort
DTSTART:20140504T140000
DTEND:20140504T163000
LOCATION:Infopoint Museen und Schlösser in Bayern - Alter Hof 1
ORGANIZER:MVHS München Mitte   
END:VEVENT
END:VCALENDAR