BEGIN:VCALENDAR
VERSION:2.0
PRODID:-//Stadtgeschichte München//DE
CALSCALE:GREGORIAN
BEGIN:VEVENT
UID:8463@stadtgeschichte-muenchen.de
SUMMARY:Karl VII.- Kurfürst, König und Kaiser
DESCRIPTION:Seiner Frau baute er die Amalienburg und den Nymphenburger Schlosspark und seinen Mätressen Palais Porcia und Palais Holnstein. Als großer Fördererder Künste hinterließ er uns u.a. die Reichen Zimmer und die Grüne Galerie in der Residenz. So stiegen die Hofausgaben imJahr 1740 auf 760000 Gulden (35% der Staatsausgaben). Alser nach nur drei Jahren als Kaiser des Heiligen Römischen Reiches Deutscher Nation starb, hinterließer das einst „gesegnete“ Land Kurbayern mit im österreichischen Erbfolgekrieg verbrannter Erde, sechs ehelichen und rund sechzig unehelichen Kindern.&nbsp;
DTSTART:20140629T140000
DTEND:20140629T163000
LOCATION:Marienplatz, Mariensäule
ORGANIZER:MVHS München Mitte   
END:VEVENT
END:VCALENDAR