BEGIN:VCALENDAR
VERSION:2.0
PRODID:-//Stadtgeschichte München//DE
CALSCALE:GREGORIAN
BEGIN:VEVENT
UID:8467@stadtgeschichte-muenchen.de
SUMMARY:Stadtmauer-Spaziergang
DESCRIPTION:Mit über 50 Türmen, großen und kleinen Stadttoren, doppeltem Mauerring und Wassergraben schützte Münchens Stadtmauer die Bürgereinst vor unerwünschten Eindringlingen. Das Isartor, das Sendlinger Tor und das Karlstor kennt fast jeder. Aber wo ist das letzte der ursprünglich vier großen Münchner Stadttore geblieben und was verraten uns die alten Straßen über den Verlauf der mittelalterlichen Mauern? Spuren der ehemaligen Stadtbefestigung finden sich noch allenthalben - man muss sie nur entdecken!&nbsp;
DTSTART:20140529T140000
DTEND:20140529T153000
LOCATION:Isartor, Innenhof
ORGANIZER:MVHS München Mitte   
END:VEVENT
END:VCALENDAR