BEGIN:VCALENDAR
VERSION:2.0
PRODID:-//Stadtgeschichte München//DE
CALSCALE:GREGORIAN
BEGIN:VEVENT
UID:8469@stadtgeschichte-muenchen.de
SUMMARY:Münchner G’schichten
DESCRIPTION:Wer ist der müde Mann in der Münchner Fußgängerzone, der den „Schönen Turm” auf seinen Schultern trägt? Welcher Unhold wird am „Wurmeck“ aus der Stadt getrieben und wie sind die Theatinermönche einst zu Speisund Trank gekommen? Eine Stadt lebt von ihren Geschichten,den durch die Zeiten überlieferten wahren Begebenheiten wie vielsagenden Schwindeleien, die nicht zuletzt auch das Alltagsleben der Menschen widerspiegeln. Bei einem Rundgang durch die Innenstadt begegnen wir den Geistern der Vergangenheit. Restkarten vor Ort
DTSTART:20140720T140000
DTEND:20140720T160000
LOCATION:Marienplatz, Fischbrunnen
ORGANIZER:MVHS München Mitte   
END:VEVENT
END:VCALENDAR