BEGIN:VCALENDAR
VERSION:2.0
PRODID:-//Stadtgeschichte München//DE
CALSCALE:GREGORIAN
BEGIN:VEVENT
UID:8470@stadtgeschichte-muenchen.de
SUMMARY:München und der Orient
DESCRIPTION:Aus unserer heutigen Sicht und unserem historischen Zeitverständnis glauben wir zu wissen, was Orient ist. Aber wie sahen das die Münchner im Mittelalter, im Barockoderauch noch im 19.Jahrhundert? Wieviel Orient kann man im Herzen Münchens entdecken? Wir sehen Bilder, die man fast allzu vertraut und heimisch als „urmünchnerisch” wahrnimmt, deren Ursprung aber ein sehr morgenländischer ist. Restkarten vor Ort
DTSTART:20140518T133000
DTEND:20140518T153000
LOCATION:Marienplatz, Fischbrunnen
ORGANIZER:MVHS München Mitte   
END:VEVENT
END:VCALENDAR