BEGIN:VCALENDAR
VERSION:2.0
PRODID:-//Stadtgeschichte München//DE
CALSCALE:GREGORIAN
BEGIN:VEVENT
UID:848@stadtgeschichte-muenchen.de
SUMMARY:Frauenabend - Ausgehen in München Für Damen ab 30
DESCRIPTION:&lt;p&gt;Haben Sie Lust, nette Bars kennen zu lernen? Wo kann frau am Abend schön ausgehen, etwas trinken, sich amüsieren - gepflegt, elegant oder gemütlich leger? München bietet jede Menge traditionsreicher und schöner Lokale, Clubs, Cafes. Wir streifen durch die Altstadt und schnuppern nächtliche Ausgeh-Luft. &lt;/p&gt;
DTSTART:20110531T200000
DTEND:20110531T213000
LOCATION:Fischbrunnen am Marienplatz
ORGANIZER:MVHS München Süd
END:VEVENT
END:VCALENDAR