BEGIN:VCALENDAR
VERSION:2.0
PRODID:-//Stadtgeschichte München//DE
CALSCALE:GREGORIAN
BEGIN:VEVENT
UID:851@stadtgeschichte-muenchen.de
SUMMARY:Das Westend
DESCRIPTION:&lt;p&gt;Diese Münchner Vorstadt hat seinen ursprünglichen Charakter noch bewahren können, obwohl sich durch die Verlagerung der Messe viel verändert hat. Wir wollen bei diesem Rundgang Altes und Neues besichtigen. Das schicke Neubauviertel auf dem ehemaligen Messegelände ebenso wie das Ledigenheim, die Rupertuskirche und manch verborgene Schätze.&lt;/p&gt;
DTSTART:20110621T150000
DTEND:20110621T170000
LOCATION:U-Bahnst. Schwanthalerhöhe, Ausgang Heimran-Ganghofer
ORGANIZER:MVHS München Süd
END:VEVENT
END:VCALENDAR