BEGIN:VCALENDAR
VERSION:2.0
PRODID:-//Stadtgeschichte München//DE
CALSCALE:GREGORIAN
BEGIN:VEVENT
UID:8520@stadtgeschichte-muenchen.de
SUMMARY:Vom Kabinettsgarten zum Englischen Garten
DESCRIPTION:Neben der ehemaligen Allerheiligen-Hofkirche liegt ein versteckter Gartenhof, der erst 2004 wieder geöffnet geworden ist. Von dort führt uns der Weg zum „Oberen\" und „Unteren\" Hofgarten mit seinem Hofbrunnwerk. Erbaut im 19. Jahrhundert, ist es noch immer in Betrieb. Über den „Finanz-\" oderauch „Dichtergarten\" geht es weiter in den Englischen Garten. Er ist größer als der Central Park in New York, einer der ersten Volksparks in Europa und ein Gartenkunstwerk von weltweiter Bedeutung.
DTSTART:20140727T110000
DTEND:20140727T130000
LOCATION:Treffpunkt: Eingang Kabinettsgarten (neben der Allerheiligenhofkirche)
ORGANIZER:MVHS München Mitte   
END:VEVENT
END:VCALENDAR