BEGIN:VCALENDAR
VERSION:2.0
PRODID:-//Stadtgeschichte München//DE
CALSCALE:GREGORIAN
BEGIN:VEVENT
UID:8523@stadtgeschichte-muenchen.de
SUMMARY:Auf den Spuren des ErstenWeltkriegs in München
DESCRIPTION:Wie haben Kinderund Jugendliche, Frauen und Männer vor und während des ErstenWeltkrieges gelebt? Worunter haben sie gelitten? ‚ Wofür haben sie gekämpft? DerRundgang beleuchtet die Entwicklungen während desKriegesbis hin zur Revolution von 1918. Zur Sprache kommen dabei unter anderem: das Münchner Schulwesen, der Umgang mit den Lehrlingen, der Kampf um dasWahlrecht, die Demonstrationen und Streiksfür Brot und Frieden,der Ablauf und die Folgen der Novemberrevolution, die Rolleder Frauen. Der Rundgang beginnt in Haidhausen und wird nach einer kurzen Straßenbahnfahrt imStadtzentrum fortgesetzt.
DTSTART:20140628T110000
DTEND:20140628T130000
LOCATION:Wiener Platz am Maibaum
ORGANIZER:MVHS München Mitte   
END:VEVENT
END:VCALENDAR