BEGIN:VCALENDAR
VERSION:2.0
PRODID:-//Stadtgeschichte München//DE
CALSCALE:GREGORIAN
BEGIN:VEVENT
UID:853@stadtgeschichte-muenchen.de
SUMMARY:Suppen, Bier und Münchner Schmankerl
DESCRIPTION:&lt;p&gt;Wir erzählenÂ  IhnenÂ  GeschichtenÂ  rundÂ  ums Essen, Trinken und Genießen im alten München. Warum kam der Schweinsbraten früher zum Bäcker? Welches Gebäck aßen die Münchener zu welcher Jahreszeit? Wie jubelte Graf Rumford den Münchnern die Kartoffel unter? Warum gab es viele Rezepte mit Bier? Unterwegs werden Sie verwöhnt mit altmünchner und typisch bayrischen Schmankerln zum Probieren. Lebensmittelpauschale 11,00 € inkl. Führung:Â Â  PetraÂ Â  Rhinow;Â Â  KulinarischeÂ Â  Überraschungen:Â  Claudia Zach, eineÂ  langjährige Kochkurs-Dozentin &lt;/p&gt;
DTSTART:20110705T200000
DTEND:20110705T213000
LOCATION:Alter Peter, Turmeingang
ORGANIZER:MVHS München Süd
END:VEVENT
END:VCALENDAR