BEGIN:VCALENDAR
VERSION:2.0
PRODID:-//Stadtgeschichte München//DE
CALSCALE:GREGORIAN
BEGIN:VEVENT
UID:8562@stadtgeschichte-muenchen.de
SUMMARY:Das Westend
DESCRIPTION:Im ehemaligen „GIasscherbenviertel“ der Bahnarbeiter, Handwerker und Brauergesellen schlägt das Herz der Stadt. Noch bevor Griechen, Spanier und Türken ins Westend zogen, fanden Menschen aus allen Landesteilen hier Wohnungen und Arbeit in den ansässigen Fabriken. Bedeutende Architekten, wie Theodor Fischer und die Brüder von Seidl, haben ihre Spuren hinterlassen. Wie kam es, dass ausgerechnet im Viertel der Turn- und Sparvereine Gustav Mahlers 8. Symphonie uraufgeführt wurde? Wir begeben uns auf Spurensuche.
DTSTART:20140601T110000
DTEND:20140601T130000
LOCATION:EckeLandsbergerstr./HolzapfeIstr.  (Augustinerbrauerei)
ORGANIZER:MVHS München Mitte   
END:VEVENT
END:VCALENDAR