BEGIN:VCALENDAR
VERSION:2.0
PRODID:-//Stadtgeschichte München//DE
CALSCALE:GREGORIAN
BEGIN:VEVENT
UID:8566@stadtgeschichte-muenchen.de
SUMMARY:Der blinde Fleck
DESCRIPTION:Am Haupteingang der Wiesn explodiert ein Sprengsatz, der 13 Menschen tötet und über 200 Personen verletzt, davon 68 schwer. Es ist Wahlkampf, denn eine Woche später ist Bundestagswahl. &nbsp;Der bayerische Ministerpräsident und CSU-Vorsitzende Franz Josef Strauß tritt gegen den amtierenden Bundeskanzler Helmut Schmidt (SPD) an. &nbsp; &nbsp;Nach der Tatortbesichtigung macht Strauß sofort die RAF für das Attentat verantwortlich und stellt die Laschheit der sozial-liberalen Regierung gegenüber dem Linksextremismus an den Pranger. Wenige Tage später muss er zurückrudern, weil Generalbundesanwalt Rebmann den beim Anschlag ums Leben gekommenen Geologiestudenten Gundolf Köhler, Mitglieder einer rechtsextremen Organisation, als Täter präsentiert. &nbsp; Nach dreijährigen Ermittlungen wird dann eine „Einzeltäter-Theorie“ festgezurrt. &nbsp; Und jetzt beginnt ein richtiger Krimi, in dessen Mittelpunkt der Journalist Ulrich Chaussy steht. &nbsp; &nbsp;Der Spielfilm „Der blinde Fleck“ beruht auf Tatsachen. &nbsp;
DTSTART:20140329T113000
DTEND:20140329T131500
LOCATION:ARRI-Kino * Türkenstraße 91
ORGANIZER:Münchner Zeitensprünge
END:VEVENT
END:VCALENDAR