BEGIN:VCALENDAR
VERSION:2.0
PRODID:-//Stadtgeschichte München//DE
CALSCALE:GREGORIAN
BEGIN:VEVENT
UID:857@stadtgeschichte-muenchen.de
SUMMARY:Stätte der Ewigkeit:
DESCRIPTION:&lt;p&gt;Das Anwachsen der jüdischen Bevölkerung machte Anfang des 20. Jahrhunderts die Anlage eines neuen Friedhofes nötig, den Hans Grässel plante. Ein Spaziergang durch diese â€žStätte der Ewigkeit&quot; ist auch ein Weg durch die Geschichte. Sie begegnen bekannten Namen wie Bernheimer, Schülein, Uhlfelder, Eisner und Landauer und erfahren manches über die Besonderheiten des Ortes. &lt;/p&gt;
DTSTART:20110728T100000
DTEND:20110728T120000
LOCATION:Eingang Garchinger Str. 37 (U6, Station Alte Heide)
ORGANIZER:MVHS München Süd
END:VEVENT
END:VCALENDAR