BEGIN:VCALENDAR
VERSION:2.0
PRODID:-//Stadtgeschichte München//DE
CALSCALE:GREGORIAN
BEGIN:VEVENT
UID:858@stadtgeschichte-muenchen.de
SUMMARY:Sommer in der Stadt:
DESCRIPTION:&lt;p&gt;Nicht nur Brunnen auch Denkmäler und Gedenktafeln begleiten die Ludwigstraße und ihre Nebenstraßen. Entdecken Sie auf einem Rundgang verschiedene vielleicht unbekannte Ecken und hören Sie Geschichten über Bewohner und Brunnenbauer im ehemaligen Schönfeld- und Universitätsviertel.&lt;/p&gt;
DTSTART:20110802T140000
DTEND:20110802T160000
LOCATION:Eingang Hofgarten (unter den Arkaden), Odeonsplatz 
ORGANIZER:MVHS München Süd
END:VEVENT
END:VCALENDAR