BEGIN:VCALENDAR
VERSION:2.0
PRODID:-//Stadtgeschichte München//DE
CALSCALE:GREGORIAN
BEGIN:VEVENT
UID:865@stadtgeschichte-muenchen.de
SUMMARY:Klingende Kirchen im Klinikviertel.
DESCRIPTION:&lt;p&gt;Im dichten Nebeneinander beherbergt das Klinikviertel der Innenstadt die unterschiedlichsten historischen und teilweise neu gestalteten Kirchen von Frauen-, Augen-, Nerven-, Poli- und Medizinischer Klinik. Architektonisch bilden diese Kapellen und Kirchen beinahe immer das Herzst&amp;uuml;ck des jeweiligen Krankenhauses, so dass den vor&amp;uuml;bereilenden Passanten ihre kunsthistorisch wertvolle Ausstattung oftmals verborgen bleibt. Entdecken Sie bei diesem Rundgang beispielsweise den sp&amp;auml;tbarocken Hochaltar der ehemaligen Klosterkirche St. Elisabeth, zeitgen&amp;ouml;ssische Sakralplastik von Josef Welling (z.B. einen der sch&amp;ouml;nsten Weihwasserbrunnen M&amp;uuml;nchens), das Taufbecken der Frauenklinik, und h&amp;ouml;ren Sie eine fast 100 Jahre alte Steinmeyer-Orgel. Das F&amp;uuml;hrungsduo Anette Spieldiener, die als Kirchenmusikerin im Innenstadtklinikum der LMU besch&amp;auml;ftigt ist, und Michael Weiser bringen die unterschiedlichen R&amp;auml;ume der Stille durch zeittypische Kirchenmusik f&amp;uuml;r Orgel und Gesang zum Klingen. Wer mag, kann am Ende der F&amp;uuml;hrung einen Abstecher in das &amp;quot;Il dottore&amp;quot;, dem Italiener des Klinikviertels machen, der in historischer Bausubstanz seinen G&amp;auml;sten aufwartet.&lt;/p&gt;
DTSTART:20110611T150000
DTEND:20110611T170000
LOCATION:Sendlinger Tor
ORGANIZER:Münchner Schatzsuche
END:VEVENT
END:VCALENDAR