BEGIN:VCALENDAR
VERSION:2.0
PRODID:-//Stadtgeschichte München//DE
CALSCALE:GREGORIAN
BEGIN:VEVENT
UID:877@stadtgeschichte-muenchen.de
SUMMARY:Friedhofsführung - Waldfriedhof Alter Teil
DESCRIPTION:&lt;p&gt;Für den Rundgang wir ein festes Schuhwerk empfohlen. Die Führung endet am Haupteingang des Neuen Teils Lorettoplatz 3.&lt;/p&gt; &lt;p&gt;Telefonische Anmeldung: Mo - Fr 9:00 - 12:30&lt;br /&gt; Tel.: 089 231 99 325&lt;/p&gt;
DTSTART:20110916T140000
DTEND:20110916T170000
LOCATION:gegenüber der Aussegnungshalle des Alten Teils
ORGANIZER:Städtische Friedhöfe München
END:VEVENT
END:VCALENDAR