BEGIN:VCALENDAR
VERSION:2.0
PRODID:-//Stadtgeschichte München//DE
CALSCALE:GREGORIAN
BEGIN:VEVENT
UID:8828@stadtgeschichte-muenchen.de
SUMMARY:Mit Politik auf Tuchfühlung: Der Bayerische Landtag
DESCRIPTION:In dieser Reihefür Bürgerinnen und Bürger des Münchner Nordens werden Orte aufgesucht, an denen politische Entscheidungen von Tragweite fallen. Ein Abgeordneter des Münchner Nordens führt auf einem Rundgangdurch das Maximilianeum. Es wird diskutiert, welche Aufgaben der Landtag hat und wie er arbeitet, wie der Alltag eines Abgeordneten aussieht und wie er die Interessen der Bürger/innen vertritt, welche Probleme des Münchner Nordens im Landtag eine Rolle spielen.&nbsp;
DTSTART:20140605T160000
DTEND:20140605T180000
LOCATION:Maximilianeum, Ostpforte
ORGANIZER:MVHS München Nord
END:VEVENT
END:VCALENDAR