BEGIN:VCALENDAR
VERSION:2.0
PRODID:-//Stadtgeschichte München//DE
CALSCALE:GREGORIAN
BEGIN:VEVENT
UID:8829@stadtgeschichte-muenchen.de
SUMMARY:Der Münchner Nordengewinnt weiter:
DESCRIPTION:Im Frühjahr 2014 findet ein städtebaulicher Ideenwettbewerb zur Erweiterung des BMW Forschungs- und Innovationszentrums (FIZ) statt. Auf dem Gelände der ehemaligen Kronprinz—Rupprecht-Kaserne zwischen Schleißheimer- und Knorrstraße und dem ehemaligen Virginia-Depot westlich der Schleißheimer Straße sollen 15000 neue Arbeitsplätze entstehen. Außerdem werden an der Knorrstraße ein Gymnasium mit Eliteschule des Sports und auf der Nordhaide eine Fachoberschule und Berufsoberschule gebaut. Nachdem beim Bürger-Dialog im September 2013 über Freiräume, Grünflächen, Stadtverkehr im Zuge der FIZ-Erweiterung diskutiert wurde, werden in dieser Veranstaltung die Ergebnisse des Wettbewerbs vorgestellt und die Verkehrs- und Infrastrukturplanung&nbsp;
DTSTART:20140924T190000
DTEND:20140924T210000
LOCATION:Volkshochschule Troppauer Str. 10
ORGANIZER:MVHS München Nord
END:VEVENT
END:VCALENDAR