BEGIN:VCALENDAR
VERSION:2.0
PRODID:-//Stadtgeschichte München//DE
CALSCALE:GREGORIAN
BEGIN:VEVENT
UID:8867@stadtgeschichte-muenchen.de
SUMMARY:Die Hirschau - naturnahe Landschaftsbilder mitten in der Stadt
DESCRIPTION:Die „Hirschau“ ist der nördliche und größereTeil des Englischen Gartens. Anders als im überlaufenen Südteil findet man hier noch Ruhe und kann sich an den herrlichen Landschaftsbildern erfreuen. Auf unserem Weg erkunden wir ausgedehnte Wiesenflächen mit malerischen Baumgruppen und Einzelbäumen. Im Norden geht die Hirschau in die Isarauen über. Dort befindet sich der mittlenrweile hundert Jahre alte Biergarten zum „Aumeister“. Wir kreuzen den „Gleisweg”, besuchen das Amphitheater und erleben die verschiedenen Wiesenräume.
DTSTART:20140907T110000
DTEND:20140907T130000
LOCATION:Ecke Crailsheimstr./Niebuhrstr./Osterwaldstr. (nordöstliche Eckedes Nordfriedhofs)
ORGANIZER:MVHS München Nord
END:VEVENT
END:VCALENDAR