BEGIN:VCALENDAR
VERSION:2.0
PRODID:-//Stadtgeschichte München//DE
CALSCALE:GREGORIAN
BEGIN:VEVENT
UID:8871@stadtgeschichte-muenchen.de
SUMMARY:Zu Gast bei der koptischen Gemeinde St. Mina
DESCRIPTION:Seit 1996 wird St. Mina&nbsp;erbaut 1851 und heute noch als Loreto-Kirche bekannt - von der koptisch-orthodoxen Gemeinde als Pfarrkirche genutzt. Der Name geht zurück auf einen der wichtigsten Heiligen der koptischen Kirche. Als Kopten bezeichnet man die Christen Ägyptens. Heute leben viele von ihnen verstreut in der westlichen Welt, u.a. in verschiedenen deutschen Städten, so auch in München. Eine große Bedeutung für die Kopten hat das alljährliche Fest der „Hl. Familie in Ägypten\", das Anfang Juni gefeiert wird. Davon und von der Geschichte St. Minas wird der Pfarrer der Gemeinde, Pater Deuscoros El Antony, erzählen, außerdem wird er die Ikonostase der Kirche erläutern. Die Veranstaltung findet im Rahmen der Stadtteilkulturwoche Berg am Laim statt.
DTSTART:20140702T180000
DTEND:20140702T200000
LOCATION:St. Mina (Loreto-Kirche) - Josephsburgstr. 24
ORGANIZER:MVHS München Ost
END:VEVENT
END:VCALENDAR