BEGIN:VCALENDAR
VERSION:2.0
PRODID:-//Stadtgeschichte München//DE
CALSCALE:GREGORIAN
BEGIN:VEVENT
UID:8873@stadtgeschichte-muenchen.de
SUMMARY:Vom Karl-Preis-Platz nach Maria Ramersdorf
DESCRIPTION:Bei einem kleinen Rundgang vom Karl-Preis-Platz zur Wallfahrtskirche Maria Ramersdorfw erden wir überraschend vielfältige Wohnformen entdecken, von der biedermeierlichen Vorstadtkulisse bis zur sogenannten Amerikaner-Siedlung, die für die amerikanischen Besatzer nach dem Zweiten Weltkrieg errichtet wurde. Danach werden wir mit sachkundiger Begleitung des Mesners Heinz Kainz,der extra für uns die Glocken läuten wird, den Turm von St. Maria Ramersdorf erklimmen und die Aussichtwie auch das Geläut bewundern. (Gutes Schuhwerkerforderlich! Aufstieg erfolgt auf eigene Verantwortung.) Einekurze Kirchenführung bildet den Abschluss. Hinweis: Kleine Spende vor Ort für die Turmbesteigung ist erbeten.
DTSTART:20140424T140000
DTEND:20140424T163000
LOCATION:vor dem Stadtteilladen kpp4, Karl-Preis- Platz 4
ORGANIZER:MVHS München Ost
END:VEVENT
END:VCALENDAR