BEGIN:VCALENDAR
VERSION:2.0
PRODID:-//Stadtgeschichte München//DE
CALSCALE:GREGORIAN
BEGIN:VEVENT
UID:8881@stadtgeschichte-muenchen.de
SUMMARY:Moosach – Das alte Dorf mit Schloss
DESCRIPTION:Moosach (Fluss am Moor) ist als bajuwarisches Dorf bereits für 807 schriftlich bezeugt, hier lebten aber schon seit der Steinzeit Menschen. Neben der romanischen Kirche steht ein kleines Barock-Schloss, das als Bürgerzentrum dient. Die rasante Entwicklung des Bauerdorfes bis zur der Industrialisierung sowie nach der Eingemeindung 1913 bis heute ist an Bauten ablesbar. Bei einem Rundgang durch den Ortskern wird die Geschichte anschaulich gemacht.
DTSTART:20140221T160000
DTEND:20140221T000000
LOCATION:Moosacher St. Martinsplatz
ORGANIZER:Dr. Reinhard Bauer
END:VEVENT
END:VCALENDAR