BEGIN:VCALENDAR
VERSION:2.0
PRODID:-//Stadtgeschichte München//DE
CALSCALE:GREGORIAN
BEGIN:VEVENT
UID:8883@stadtgeschichte-muenchen.de
SUMMARY:Mythos Schwabing
DESCRIPTION:Schwabing, das legendäre „Wahnmoching“ der Franziska von Reventlow, war um 1900 ein Mittelpunkt der künstlerischen Welt. Bis heute ist Schwabing – trotz Kriegszerstörungen ein liebenswerter Ort für Kreative. Bei einem Spaziergang über den alten Dorfkern um St. Sylvester zum Nikolaiplatz soll Geschichte und Gegenwart vor Augen geführt werden. Im Mittelpunkt stehen dabei die kulturelle und gesellschaftliche Entwicklung (Simplicissimus, Frauenemanzipation).
DTSTART:20140223T140000
DTEND:20140223T000000
LOCATION:Münchner Freiheit/ Haimhauserstraße
ORGANIZER:Dr. Reinhard Bauer
END:VEVENT
END:VCALENDAR