BEGIN:VCALENDAR
VERSION:2.0
PRODID:-//Stadtgeschichte München//DE
CALSCALE:GREGORIAN
BEGIN:VEVENT
UID:8884@stadtgeschichte-muenchen.de
SUMMARY:Schwabing West mit Oberbürgermeister Christian Ude
DESCRIPTION:Seit der Mitte des 19. Jahrhunderts wurde der Westen Schwabings um Kurfürsten- und Elisabethplatz bebaut. Um 1900 war hier er ein kulturelles Zentrum der Welt mit Malern und Dichtern. Später kamen auch Filmschaffende. Hier war auch stets ein Ort der Politik. Bei einem Rundgang werden Bauten und Personen vor Augen geführt. Christian Ude, der hier wohnt, kann hier viel aus persönlicher Erfahrung erzählen.
DTSTART:20140223T160000
DTEND:20140223T000000
LOCATION:Kurfürstenplatz-Verkehrsinsel
ORGANIZER:Dr. Reinhard Bauer
END:VEVENT
END:VCALENDAR