BEGIN:VCALENDAR
VERSION:2.0
PRODID:-//Stadtgeschichte München//DE
CALSCALE:GREGORIAN
BEGIN:VEVENT
UID:8885@stadtgeschichte-muenchen.de
SUMMARY:Die Wohnsiedlung Borstei
DESCRIPTION:Die Borstei ist eine um 1927 errichtete Siedlung mit 774 Mietwohnungen in traditionellen Bauformen mit reich geschmückten Fassaden. Die reizvollen Gärten in den Innenhöfen sind mit Kunstwerken geschmückt. Die gediegene Wohnqualität zog viele Künstler an. Bei einem Rundgang wird die Geschichte und Kunst des Ortes und seiner Bewohner anschaulich gemacht.
DTSTART:20140228T160000
DTEND:20140228T000000
LOCATION:Dachauer Str./ Franz-Marc-Straße
ORGANIZER:Dr. Reinhard Bauer
END:VEVENT
END:VCALENDAR